BEGIN:VCALENDAR
VERSION:2.0
PRODID:-//eventon.com NONSGML v1.0//EN
BEGIN:VEVENT
UID:69e75af38fc74
DTSTAMP:20260421T120939
DTSTART:20260421T153000Z
DTEND:20260421T235000Z
LOCATION:Church Princes Street
SUMMARY:Exploring Silent Prayer
DESCRIPTION: Silent prayer has been a part of Christian tradition for many years; it is similar in style to the ‘mindfulness’ which has increased in popularity in recent years. In this service a leader will introduce the session with some thoughts for reflection\,  which is followed by an extended time of[..]
END:VEVENT
END:VCALENDAR