BEGIN:VCALENDAR
VERSION:2.0
PRODID:-//eventon.com NONSGML v1.0//EN
BEGIN:VEVENT
UID:69e515886200f
DTSTAMP:20260419T184856
DTSTART:20260224T082000Z
DTEND:20260224T235000Z
LOCATION:Zoom 
SUMMARY:Morning Prayer
DESCRIPTION: A spoken service with readings from the Bible and prayers held online via Zoom. For details of the link to join this short service for the beginning of the day please contact us
END:VEVENT
END:VCALENDAR