BEGIN:VCALENDAR
VERSION:2.0
PRODID:-//eventon.com NONSGML v1.0//EN
BEGIN:VEVENT
UID:69e950e5c1644
DTSTAMP:20260422T235117
DTSTART:20260929T082000Z
DTEND:20260929T235000Z
LOCATION:Zoom 
SUMMARY:Morning Prayer
DESCRIPTION: A spoken service with readings from the Bible and prayers held online via Zoom. For details of the link to join this short service for the beginning of the day please contact us
END:VEVENT
END:VCALENDAR