BEGIN:VCALENDAR
VERSION:2.0
PRODID:-//eventon.com NONSGML v1.0//EN
BEGIN:VEVENT
UID:69e983e188161
DTSTAMP:20260423T032849
DTSTART:20261020T082000Z
DTEND:20261020T235000Z
LOCATION:Zoom 
SUMMARY:Morning Prayer
DESCRIPTION: A spoken service with readings from the Bible and prayers held online via Zoom. For details of the link to join this short service for the beginning of the day please contact us
END:VEVENT
END:VCALENDAR