BEGIN:VCALENDAR
VERSION:2.0
PRODID:-//eventon.com NONSGML v1.0//EN
BEGIN:VEVENT
UID:69ecb71c8ce9f
DTSTAMP:20260425T134412
DTSTART:20270119T082000Z
DTEND:20270119T235000Z
LOCATION:Zoom 
SUMMARY:Morning Prayer
DESCRIPTION: A spoken service with readings from the Bible and prayers held online via Zoom. For details of the link to join this short service for the beginning of the day please contact us
END:VEVENT
END:VCALENDAR