BEGIN:VCALENDAR
VERSION:2.0
PRODID:-//eventon.com NONSGML v1.0//EN
BEGIN:VEVENT
UID:69e75af39026c
DTSTAMP:20260421T120939
DTSTART:20260426T070000Z
DTEND:20260426T225000Z
LOCATION:
SUMMARY:Holy Communion
DESCRIPTION: A spoken service with readings from the Bible\,  a sermon (talk)\,  prayers and bread and wine shared together as Jesus did with his disciples in The Last Supper
END:VEVENT
END:VCALENDAR