BEGIN:VCALENDAR
VERSION:2.0
PRODID:-//eventon.com NONSGML v1.0//EN
BEGIN:VEVENT
UID:69e75a98c51b0
DTSTAMP:20260421T120808
DTSTART:20260422T100000Z
DTEND:20260422T225000Z
LOCATION:
SUMMARY:🎦 Holy Communion
DESCRIPTION: A spoken service with readings from the Bible\,  a sermon (talk)\,  prayers and bread and wine shared together as Jesus did with his disciples in The Last Supper. The service is also live-streamed on Facebook
END:VEVENT
END:VCALENDAR