BEGIN:VCALENDAR
VERSION:2.0
PRODID:-//eventon.com NONSGML v1.0//EN
BEGIN:VEVENT
UID:69e5e17f9bca5
DTSTAMP:20260420T091911
DTSTART:20220706T230000Z
DTEND:20220707T225900Z
LOCATION:
SUMMARY:Walking Group
DESCRIPTION: Details are available from a leaflet in the church porch or by contacting the group organiser. See here for more details
END:VEVENT
END:VCALENDAR